BEGIN:VCALENDAR
VERSION:2.0
PRODID:-//ChamberMaster//Event Calendar 2.0//EN
METHOD:PUBLISH
X-PUBLISHED-TTL:P3D
REFRESH-INTERVAL:P3D
CALSCALE:GREGORIAN
BEGIN:VEVENT
DTSTART:20220428T163000Z
DTEND:20220428T180000Z
X-MICROSOFT-CDO-ALLDAYEVENT:FALSE
SUMMARY:April Luncheon Learn
DESCRIPTION:Lunch & Learn Topic: Social Media for the Busy Business Owner
X-ALT-DESC;FMTTYPE=text/html:Lunch &amp\; Learn Topic: Social Media for the Busy Business Owner
LOCATION:Restauraunt 1796 7747 US Hwy 61 St.Francisville\, LA 70775 United States
UID:e.3518.164
SEQUENCE:3
DTSTAMP:20260425T152707Z
URL:https://business.westfelicianachamber.org/events/details/april-luncheon-learn-164
END:VEVENT

END:VCALENDAR
