BEGIN:VCALENDAR
VERSION:2.0
PRODID:-//ChamberMaster//Event Calendar 2.0//EN
METHOD:PUBLISH
X-PUBLISHED-TTL:P3D
REFRESH-INTERVAL:P3D
CALSCALE:GREGORIAN
BEGIN:VEVENT
DTSTART:20240303T230000Z
DTEND:20240304T010000Z
X-MICROSOFT-CDO-ALLDAYEVENT:FALSE
SUMMARY:Chamber Uncorked 2024
DESCRIPTION:Enjoy a wide variety of delicious food tastings\, as well as great selection of wines\, cocktails\, and liqueur samples.
X-ALT-DESC;FMTTYPE=text/html:<span style="font-size:14px\;"><span style="font-family:verdana\;"><span class="OYPEnA text-decoration-none text-strikethrough-none" style="font-weight: 700\;">Enjoy a wide variety of delicious food tastings\, as well as great selection of wines\, cocktails\, and liqueur samples.</span></span></span>
LOCATION:The Mallory
UID:e.3518.178
SEQUENCE:3
DTSTAMP:20260424T070031Z
URL:https://business.westfelicianachamber.org/events/details/chamber-uncorked-2024-178
END:VEVENT

END:VCALENDAR
