BEGIN:VCALENDAR
VERSION:2.0
PRODID:-//ChamberMaster//Event Calendar 2.0//EN
METHOD:PUBLISH
X-PUBLISHED-TTL:P3D
REFRESH-INTERVAL:P3D
CALSCALE:GREGORIAN
BEGIN:VEVENT
DTSTART:20250309T200000Z
DTEND:20250310T000000Z
X-MICROSOFT-CDO-ALLDAYEVENT:FALSE
SUMMARY:Chamber Uncorked 2025
DESCRIPTION:Enjoy a wide variety of delicious food tastings\, as well as great selection of wines\, cocktails\, and liqueur samples. This year\, we're excited to feature the fantastic Petty Betty Band\, who will be sure to get everyone in the dancing mood!
X-ALT-DESC;FMTTYPE=text/html:<strong><span style="font-size:14px\;"><span class="OYPEnA text-decoration-none text-strikethrough-none" style="font-weight: 700\;">Enjoy a wide variety of delicious food tastings\, as well as great selection of wines\, cocktails\, and liqueur samples.&nbsp\;</span></span><span background-color:="" font-size:=""><span style="caret-color: rgb(228\, 230\, 235)\;">This year\, we&#39\;re&nbsp\;excited to feature the fantastic Petty Betty Band\, who will be sure to get everyone in the dancing mood!&nbsp\;</span></span></strong>
LOCATION:The Mallory
UID:e.3518.181
SEQUENCE:3
DTSTAMP:20260423T114851Z
URL:https://business.westfelicianachamber.org/events/details/chamber-uncorked-2025-181
END:VEVENT

END:VCALENDAR
