BEGIN:VCALENDAR
VERSION:2.0
PRODID:-//ChamberMaster//Event Calendar 2.0//EN
METHOD:PUBLISH
X-PUBLISHED-TTL:P3D
REFRESH-INTERVAL:P3D
CALSCALE:GREGORIAN
BEGIN:VEVENT
DTSTART:20260308T210000Z
DTEND:20260309T000000Z
X-MICROSOFT-CDO-ALLDAYEVENT:FALSE
SUMMARY:Chamber Uncorked 2026
DESCRIPTION:Sip\, savor\, and celebrate at Uncorked 2026\, the West Feliciana Chamber's signature ticketed event! This elevated evening brings together the best of our community featuring tastings from local restaurants\, curated wines\, and local distilleries. Enjoy live music\, a lively atmosphere\, and plenty of fun as you mix and mingle in true West Feliciana style. It's a night designed to indulge\, connect\, and celebrate all things local.
X-ALT-DESC;FMTTYPE=text/html:<span style="font-size:26px\;"><span style="caret-color: rgb(0\, 0\, 0)\; color: rgb(0\, 0\, 0)\;">Sip\, savor\, and celebrate at&nbsp\;</span><strong data-end="96" data-start="79" style="caret-color: rgb(0\, 0\, 0)\; color: rgb(0\, 0\, 0)\;">Uncorked 2026</strong><span style="caret-color: rgb(0\, 0\, 0)\; color: rgb(0\, 0\, 0)\;">\, the West Feliciana Chamber&rsquo\;s signature ticketed event! This elevated evening brings together the best of our community&mdash\;featuring tastings from local restaurants\, curated wines\, and local distilleries. Enjoy live music\, a lively atmosphere\, and plenty of fun as you mix and mingle in true West Feliciana style. It&rsquo\;s a night designed to indulge\, connect\, and celebrate all things local.</span></span>
LOCATION:The Mallory
UID:e.3518.182
SEQUENCE:3
DTSTAMP:20260422T172005Z
URL:https://business.westfelicianachamber.org/events/details/chamber-uncorked-2026-182
END:VEVENT

END:VCALENDAR
