BEGIN:VCALENDAR
VERSION:2.0
PRODID:-//ChamberMaster//Event Calendar 2.0//EN
METHOD:PUBLISH
X-PUBLISHED-TTL:P3D
REFRESH-INTERVAL:P3D
CALSCALE:GREGORIAN
BEGIN:VEVENT
DTSTART:20211209T230000Z
DTEND:20211210T010000Z
X-MICROSOFT-CDO-ALLDAYEVENT:FALSE
SUMMARY:Christmas Open House
DESCRIPTION:Christmas Open House
X-ALT-DESC;FMTTYPE=text/html:Christmas Open House&nbsp\;
LOCATION:Patent Title & Ashley Land & Legal
UID:e.3518.160
SEQUENCE:3
DTSTAMP:20260425T210722Z
URL:https://business.westfelicianachamber.org/events/details/christmas-open-house-160
END:VEVENT

END:VCALENDAR
