BEGIN:VCALENDAR
VERSION:2.0
PRODID:-//ChamberMaster//Event Calendar 2.0//EN
METHOD:PUBLISH
X-PUBLISHED-TTL:P3D
REFRESH-INTERVAL:P3D
CALSCALE:GREGORIAN
BEGIN:VEVENT
DTSTART:20230427T133000Z
DTEND:20230427T143000Z
X-MICROSOFT-CDO-ALLDAYEVENT:FALSE
SUMMARY:Coffee Connection
DESCRIPTION:Join us for coffee\, pastries\, networking and community updates from West Feliciana Parish Sheriff Brian Spillman and West Feliciana Hospital. \n\nThursday\, April 27th\, 8:30 - 9:30 a.m. at District Mercantile.\n\nFREE to Chamber Members\, registration is required.
X-ALT-DESC;FMTTYPE=text/html:<p style="margin: 0px\; font-stretch: normal\; line-height: normal\; font-family: &quot\;Helvetica Neue&quot\;\;"><span style="font-size:16px\;"><span style="font-family:times new roman\;">Join us for coffee\, pastries\, networking and community updates&nbsp\;from West&nbsp\;Feliciana Parish Sheriff Brian Spillman and West Feliciana Hospital.&nbsp\;</span></span></p>\n\n<p style="margin: 0px\; font-stretch: normal\; line-height: normal\; font-family: &quot\;Helvetica Neue&quot\;\;"><span style="font-size:16px\;"><span style="font-family:times new roman\;">Thursday\, April 27th\, 8:30 - 9:30 a.m. at District Mercantile.</span></span></p>\n\n<p style="margin: 0px\; font-stretch: normal\; line-height: normal\; font-family: &quot\;Helvetica Neue&quot\;\;"><span style="font-size:16px\;"><span style="font-family:times new roman\;">FREE to Chamber Members\, registration is required.</span></span></p>\n
LOCATION:District Mercantile - 11914 Ferdinand Street\, St. Francisville\, LA
UID:e.3518.169
SEQUENCE:3
DTSTAMP:20260424T221515Z
URL:https://business.westfelicianachamber.org/events/details/coffee-connection-169
END:VEVENT

END:VCALENDAR
