BEGIN:VCALENDAR
VERSION:2.0
PRODID:-//ChamberMaster//Event Calendar 2.0//EN
METHOD:PUBLISH
X-PUBLISHED-TTL:P3D
REFRESH-INTERVAL:P3D
CALSCALE:GREGORIAN
BEGIN:VEVENT
DTSTART:20240410T130000Z
DTEND:20240410T140000Z
X-MICROSOFT-CDO-ALLDAYEVENT:FALSE
SUMMARY:Coffee Connection
DESCRIPTION:Start your day with a cup of coffee and connect with fellow Chamber of Commerce members at District Mercantile on April 10th from 8AM-9AM. This is a great opportunity to network with like-minded professionals and learn from our guest speaker\, Mayor Robert Bobee Leake. Admission is free for members and only 10.00 for non-members. Don't miss out on this chance to gain valuable insights and expand your business connections!
X-ALT-DESC;FMTTYPE=text/html:Start your day with a cup of coffee and connect with fellow Chamber of Commerce members at District Mercantile on April 10th from 8AM-9AM. This is a great opportunity to network with like-minded professionals and learn from our guest speaker\, Mayor Robert Bobee Leake. Admission is free for members and only 10.00 for non-members. Don&#39\;t miss out on this chance to gain valuable insights and expand your business connections!
LOCATION:District Mercantile 11914 Ferdinand St.\, Saint Francisville\, LA\, United States\, 70775
UID:e.3518.179
SEQUENCE:3
DTSTAMP:20260424T033426Z
URL:https://business.westfelicianachamber.org/events/details/coffee-connection-179
END:VEVENT

END:VCALENDAR
