BEGIN:VCALENDAR
VERSION:2.0
PRODID:-//ChamberMaster//Event Calendar 2.0//EN
METHOD:PUBLISH
X-PUBLISHED-TTL:P3D
REFRESH-INTERVAL:P3D
CALSCALE:GREGORIAN
BEGIN:VEVENT
DTSTART:20230718T130000Z
DTEND:20230718T140000Z
X-MICROSOFT-CDO-ALLDAYEVENT:FALSE
SUMMARY:Coffee Connection Commerce Street Overlay District
DESCRIPTION:Join us for coffee\, pastries and community\n\nupdates on the Commercial Town Center in the Historic District of St. Francisville.
X-ALT-DESC;FMTTYPE=text/html:<p class="_04xlpA direction-ltr align-center para-style-body" style="color: rgb(255\, 255\, 255)\; font-family: &quot\;YAFcf7rBmhA 0&quot\;\, _fb_\, auto\; --font-size: 33.3332px\; --line-height: 1.4\; line-height: 46px\;"><span style="color:#000000\;"><span style="font-size:14px\;"><span class="WdYUQQ text-decoration-none text-strikethrough-none">Join us for coffee\, pastries and community</span></span></span></p>\n\n<p class="_04xlpA direction-ltr align-center para-style-body" style="color: rgb(255\, 255\, 255)\; font-family: &quot\;YAFcf7rBmhA 0&quot\;\, _fb_\, auto\; --font-size: 33.3332px\; --line-height: 1.4\; line-height: 46px\;"><span style="color:#000000\;"><span style="font-size:14px\;"><span class="WdYUQQ text-decoration-none text-strikethrough-none">updates on the Commercial Town Center in the Historic District of St. Francisville.</span></span></span></p>\n
LOCATION:Location: Bank of St. Francisville (5700 Commerce Street\, St. Francisville\, LA)
UID:e.3518.170
SEQUENCE:3
DTSTAMP:20260424T174652Z
URL:https://business.westfelicianachamber.org/events/details/coffee-connection-commerce-street-overlay-district-170
END:VEVENT

END:VCALENDAR
