BEGIN:VCALENDAR
VERSION:2.0
PRODID:-//ChamberMaster//Event Calendar 2.0//EN
METHOD:PUBLISH
X-PUBLISHED-TTL:P3D
REFRESH-INTERVAL:P3D
CALSCALE:GREGORIAN
BEGIN:VEVENT
DTSTART:20220210T210000Z
DTEND:20220211T000000Z
X-MICROSOFT-CDO-ALLDAYEVENT:FALSE
SUMMARY:Group Ribbon Cutting
DESCRIPTION:We will host a group ribbon cutting for Muddy Waters Unlimited\, Wildflowers Holistic Health\, & Shane's Plumbing & Drain Cleaning\, LLC
X-ALT-DESC;FMTTYPE=text/html:We will host a group ribbon cutting for Muddy Waters Unlimited\, Wildflowers Holistic Health\, &amp\; Shane&#39\;s Plumbing &amp\; Drain Cleaning\, LLC
LOCATION:Spring Creek Shopping Center
UID:e.3518.163
SEQUENCE:3
DTSTAMP:20260425T181350Z
URL:https://business.westfelicianachamber.org/events/details/group-ribbon-cutting-163
END:VEVENT

END:VCALENDAR
