BEGIN:VCALENDAR
VERSION:2.0
PRODID:-//ChamberMaster//Event Calendar 2.0//EN
METHOD:PUBLISH
X-PUBLISHED-TTL:P3D
REFRESH-INTERVAL:P3D
CALSCALE:GREGORIAN
BEGIN:VEVENT
DTSTART:20221028T230000Z
DTEND:20221029T020000Z
X-MICROSOFT-CDO-ALLDAYEVENT:FALSE
SUMMARY:Halloween Networking Night Out
DESCRIPTION:Join us for networking\, appetizers\, cocktails\, and FUN!\n\nCostumes Encouraged!
X-ALT-DESC;FMTTYPE=text/html:<h2 style="font-style:italic\;"><strong><span style="font-size:18px\;"><span style="font-family:times new roman\;">Join us for networking\, appetizers\, cocktails\, and FUN!<br />\nCostumes Encouraged!</span></span></strong></h2>\n
LOCATION:The Oyster Bar
UID:e.3518.166
SEQUENCE:3
DTSTAMP:20260421T080543Z
URL:https://business.westfelicianachamber.org/events/details/halloween-networking-night-out-166
END:VEVENT

END:VCALENDAR
