BEGIN:VCALENDAR
VERSION:2.0
PRODID:-//ChamberMaster//Event Calendar 2.0//EN
METHOD:PUBLISH
X-PUBLISHED-TTL:P3D
REFRESH-INTERVAL:P3D
CALSCALE:GREGORIAN
BEGIN:VEVENT
DTSTART:20220227T230000Z
DTEND:20220228T010000Z
X-MICROSOFT-CDO-ALLDAYEVENT:FALSE
SUMMARY:Uncorked Food & Wine Showcase 2022
DESCRIPTION:Exciting event showcasing the wonderful variety of restaurants & bars in our area. Enjoy delicious food tastings\, as well as wide variety of wines\, cocktails\, and liqueur samples. Revamped to include even MORE wine options to sample!
X-ALT-DESC;FMTTYPE=text/html:<p class="_04xlpA direction-ltr align-start para-style-body" style="font-family: &quot\;YACgEfOAqSo 0&quot\;\, _fb_\, auto\; --font-size:18px\; --line-height:1.2\; text-transform: none\; color: rgb(0\, 0\, 0)\; line-height: 21px\;"><span style="font-size:16px\;"><span class="JsGRdQ" style="font-weight: 400\; font-style: italic\; color: rgb(0\, 0\, 0)\; text-decoration: none\;">Exciting event showcasing the wonderful variety of restaurants &amp\; bars in our area. Enjoy delicious food tastings\, as well as wide variety of wines\, cocktails\, and liqueur samples. Revamped to include even MORE wine options to sample!</span></span></p>\n
LOCATION:Restaurant 1796 @ The Myrtles
UID:e.3518.159
SEQUENCE:3
DTSTAMP:20260425T180828Z
URL:https://business.westfelicianachamber.org/events/details/uncorked-food-wine-showcase-2022-159
END:VEVENT

END:VCALENDAR
