BEGIN:VCALENDAR
VERSION:2.0
PRODID:-//ChamberMaster//Event Calendar 2.0//EN
METHOD:PUBLISH
X-PUBLISHED-TTL:P3D
REFRESH-INTERVAL:P3D
CALSCALE:GREGORIAN
BEGIN:VEVENT
DTSTART:20230226T230000Z
DTEND:20230227T010000Z
X-MICROSOFT-CDO-ALLDAYEVENT:FALSE
SUMMARY:Uncorked Food & Wine Showcase 2023
DESCRIPTION:This exciting event showcases the wonderful variety of restaurants and bars in the St. Francisville area.  Enjoy a wide variety of delicious food tastings\, as well as great selection of wines\, cocktails\, and liqueur samples.
X-ALT-DESC;FMTTYPE=text/html:<p class="_04xlpA direction-ltr align-start para-style-body" style="font-family: &quot\;YACgEfOAqSo 0&quot\;\, _fb_\, auto\; --font-size:18px\; --line-height:1.2\; text-transform: none\; color: rgb(0\, 0\, 0)\; line-height: 21px\;"><span style="font-size:16px\;"><span class="S1PPyQ" style="color: rgb(0\, 0\, 0)\; font-style: italic\;">This exciting event showcases the wonderful variety of restaurants and bars in the St. Francisville area.</span><span class="S1PPyQ white-space-prewrap" style="color: rgb(0\, 0\, 0)\; font-style: italic\;">&nbsp\; </span><span class="S1PPyQ" style="color: rgb(0\, 0\, 0)\; font-style: italic\;">Enjoy a wide variety of delicious food tastings\, as well as great selection of wines\, cocktails\, and liqueur samples.</span></span></p>\n
LOCATION:Restaurant 1796 @ The Myrtles
UID:e.3518.167
SEQUENCE:3
DTSTAMP:20260425T011902Z
URL:https://business.westfelicianachamber.org/events/details/uncorked-food-wine-showcase-2023-167
END:VEVENT

END:VCALENDAR
