BEGIN:VCALENDAR
VERSION:2.0
PRODID:-//ChamberMaster//Event Calendar 2.0//EN
METHOD:PUBLISH
X-PUBLISHED-TTL:P3D
REFRESH-INTERVAL:P3D
CALSCALE:GREGORIAN
BEGIN:VEVENT
DTSTART:20230322T163000Z
DTEND:20230322T173000Z
X-MICROSOFT-CDO-ALLDAYEVENT:FALSE
SUMMARY:West Feliciana Chamber of Commerce Lunch & Learn
DESCRIPTION:Join The West Feliciana Chamber of Commerce for a Lunch & Learn. Join guest speakers Kenny Havard ( Parish President) & Laurie Walsh (Main Street Director)\, as they share up-coming town events and projects.
X-ALT-DESC;FMTTYPE=text/html:<span style="font-family:arial\;"><strong style="font-size: 14px\;"><span style="font-size:16px\;">Join The West Feliciana Chamber of Commerce for a Lunch &amp\; Learn.&nbsp\;Join guest speakers Kenny Havard ( Parish President) &amp\; Laurie Walsh (Main&nbsp\;Street</span></strong><strong style="font-size: 14px\;"><span style="font-size:16px\;">&nbsp\;</span></strong><strong><span style="font-size:16px\;">Director)</span>\,</strong></span><strong><span style="font-size:16px\;"> as they share&nbsp\;up-coming town events and projects.&nbsp\;</span></strong>
LOCATION:El Mejor Bar & Grill 5051 US HWY 61\, Saint Francisville\, LA\, United States\, 70775
UID:e.3518.168
SEQUENCE:3
DTSTAMP:20260425T011605Z
URL:https://business.westfelicianachamber.org/events/details/west-feliciana-chamber-of-commerce-lunch-learn-168
END:VEVENT

END:VCALENDAR
